BEGIN:VCALENDAR
VERSION:2.0
PRODID:-//BC Selecta Dordrecht - ECPv6.15.17.1//NONSGML v1.0//EN
CALSCALE:GREGORIAN
METHOD:PUBLISH
X-ORIGINAL-URL:https://bcselecta.nl
X-WR-CALDESC:Evenementen voor BC Selecta Dordrecht
REFRESH-INTERVAL;VALUE=DURATION:PT1H
X-Robots-Tag:noindex
X-PUBLISHED-TTL:PT1H
BEGIN:VTIMEZONE
TZID:Europe/Amsterdam
BEGIN:DAYLIGHT
TZOFFSETFROM:+0100
TZOFFSETTO:+0200
TZNAME:CEST
DTSTART:20250330T010000
END:DAYLIGHT
BEGIN:STANDARD
TZOFFSETFROM:+0200
TZOFFSETTO:+0100
TZNAME:CET
DTSTART:20251026T010000
END:STANDARD
BEGIN:DAYLIGHT
TZOFFSETFROM:+0100
TZOFFSETTO:+0200
TZNAME:CEST
DTSTART:20260329T010000
END:DAYLIGHT
BEGIN:STANDARD
TZOFFSETFROM:+0200
TZOFFSETTO:+0100
TZNAME:CET
DTSTART:20261025T010000
END:STANDARD
BEGIN:DAYLIGHT
TZOFFSETFROM:+0100
TZOFFSETTO:+0200
TZNAME:CEST
DTSTART:20270328T010000
END:DAYLIGHT
BEGIN:STANDARD
TZOFFSETFROM:+0200
TZOFFSETTO:+0100
TZNAME:CET
DTSTART:20271031T010000
END:STANDARD
END:VTIMEZONE
BEGIN:VEVENT
DTSTART;TZID=Europe/Amsterdam:20260421T190000
DTEND;TZID=Europe/Amsterdam:20260421T201500
DTSTAMP:20260418T102306
CREATED:20260226T075823Z
LAST-MODIFIED:20260226T080601Z
UID:1319-1776798000-1776802500@bcselecta.nl
SUMMARY:Jeugd Training
DESCRIPTION:Training voor onze jeugdleden (doelgroep 8 t/m 18 jaar).
URL:https://bcselecta.nl/evenement/jeugd-training-8/
CATEGORIES:Training
END:VEVENT
BEGIN:VEVENT
DTSTART;TZID=Europe/Amsterdam:20260421T201500
DTEND;TZID=Europe/Amsterdam:20260421T211500
DTSTAMP:20260418T102306
CREATED:20260226T081754Z
LAST-MODIFIED:20260226T081754Z
UID:1346-1776802500-1776806100@bcselecta.nl
SUMMARY:Senioren Training
DESCRIPTION:Open voor senioren (en jeugdleden)\, toegankelijk voor ieder niveau.
URL:https://bcselecta.nl/evenement/senioren-training-9/
CATEGORIES:Training
END:VEVENT
BEGIN:VEVENT
DTSTART;TZID=Europe/Amsterdam:20260428T190000
DTEND;TZID=Europe/Amsterdam:20260428T201500
DTSTAMP:20260418T102306
CREATED:20260226T080742Z
LAST-MODIFIED:20260226T080742Z
UID:1331-1777402800-1777407300@bcselecta.nl
SUMMARY:Jeugd Training
DESCRIPTION:Training voor onze jeugdleden (doelgroep 8 t/m 18 jaar).
URL:https://bcselecta.nl/evenement/jeugd-training-9/
CATEGORIES:Training
END:VEVENT
BEGIN:VEVENT
DTSTART;TZID=Europe/Amsterdam:20260428T201500
DTEND;TZID=Europe/Amsterdam:20260428T211500
DTSTAMP:20260418T102306
CREATED:20260226T082011Z
LAST-MODIFIED:20260226T082011Z
UID:1350-1777407300-1777410900@bcselecta.nl
SUMMARY:Senioren Training
DESCRIPTION:Open voor senioren (en jeugdleden)\, toegankelijk voor ieder niveau.
URL:https://bcselecta.nl/evenement/senioren-training-11/
CATEGORIES:Training
END:VEVENT
END:VCALENDAR