BEGIN:VCALENDAR
VERSION:2.0
PRODID:-//BC Selecta Dordrecht - ECPv6.15.17.1//NONSGML v1.0//EN
CALSCALE:GREGORIAN
METHOD:PUBLISH
X-ORIGINAL-URL:https://bcselecta.nl
X-WR-CALDESC:Evenementen voor BC Selecta Dordrecht
REFRESH-INTERVAL;VALUE=DURATION:PT1H
X-Robots-Tag:noindex
X-PUBLISHED-TTL:PT1H
BEGIN:VTIMEZONE
TZID:Europe/Amsterdam
BEGIN:DAYLIGHT
TZOFFSETFROM:+0100
TZOFFSETTO:+0200
TZNAME:CEST
DTSTART:20250330T010000
END:DAYLIGHT
BEGIN:STANDARD
TZOFFSETFROM:+0200
TZOFFSETTO:+0100
TZNAME:CET
DTSTART:20251026T010000
END:STANDARD
BEGIN:DAYLIGHT
TZOFFSETFROM:+0100
TZOFFSETTO:+0200
TZNAME:CEST
DTSTART:20260329T010000
END:DAYLIGHT
BEGIN:STANDARD
TZOFFSETFROM:+0200
TZOFFSETTO:+0100
TZNAME:CET
DTSTART:20261025T010000
END:STANDARD
BEGIN:DAYLIGHT
TZOFFSETFROM:+0100
TZOFFSETTO:+0200
TZNAME:CEST
DTSTART:20270328T010000
END:DAYLIGHT
BEGIN:STANDARD
TZOFFSETFROM:+0200
TZOFFSETTO:+0100
TZNAME:CET
DTSTART:20271031T010000
END:STANDARD
END:VTIMEZONE
BEGIN:VEVENT
DTSTART;TZID=Europe/Amsterdam:20260519T190000
DTEND;TZID=Europe/Amsterdam:20260519T201500
DTSTAMP:20260422T134723
CREATED:20260225T083731Z
LAST-MODIFIED:20260225T083731Z
UID:1193-1779217200-1779221700@bcselecta.nl
SUMMARY:Jeugd Training (Dordt Sport Proefles)
DESCRIPTION:Training voor onze jeugdleden (doelgroep 8 t/m 18 jaar) + Dordt Sport proefles
URL:https://bcselecta.nl/evenement/jeugd-training-dordt-sport-proefles-2/
CATEGORIES:Training
END:VEVENT
END:VCALENDAR