BEGIN:VCALENDAR
VERSION:2.0
PRODID:-//BC Selecta Dordrecht - ECPv6.15.17.1//NONSGML v1.0//EN
CALSCALE:GREGORIAN
METHOD:PUBLISH
X-ORIGINAL-URL:https://bcselecta.nl
X-WR-CALDESC:Evenementen voor BC Selecta Dordrecht
REFRESH-INTERVAL;VALUE=DURATION:PT1H
X-Robots-Tag:noindex
X-PUBLISHED-TTL:PT1H
BEGIN:VTIMEZONE
TZID:Europe/Amsterdam
BEGIN:DAYLIGHT
TZOFFSETFROM:+0100
TZOFFSETTO:+0200
TZNAME:CEST
DTSTART:20250330T010000
END:DAYLIGHT
BEGIN:STANDARD
TZOFFSETFROM:+0200
TZOFFSETTO:+0100
TZNAME:CET
DTSTART:20251026T010000
END:STANDARD
BEGIN:DAYLIGHT
TZOFFSETFROM:+0100
TZOFFSETTO:+0200
TZNAME:CEST
DTSTART:20260329T010000
END:DAYLIGHT
BEGIN:STANDARD
TZOFFSETFROM:+0200
TZOFFSETTO:+0100
TZNAME:CET
DTSTART:20261025T010000
END:STANDARD
BEGIN:DAYLIGHT
TZOFFSETFROM:+0100
TZOFFSETTO:+0200
TZNAME:CEST
DTSTART:20270328T010000
END:DAYLIGHT
BEGIN:STANDARD
TZOFFSETFROM:+0200
TZOFFSETTO:+0100
TZNAME:CET
DTSTART:20271031T010000
END:STANDARD
END:VTIMEZONE
BEGIN:VEVENT
DTSTART;TZID=Europe/Amsterdam:20260224T190000
DTEND;TZID=Europe/Amsterdam:20260224T201500
DTSTAMP:20260422T121049
CREATED:20260221T055730Z
LAST-MODIFIED:20260221T065325Z
UID:1147-1771959600-1771964100@bcselecta.nl
SUMMARY:Jeugd Training
DESCRIPTION:Training voor onze jeugdleden (doelgroep 8 t/m 18 jaar).
URL:https://bcselecta.nl/evenement/jeugd-training/
CATEGORIES:Training
END:VEVENT
BEGIN:VEVENT
DTSTART;TZID=Europe/Amsterdam:20260224T201500
DTEND;TZID=Europe/Amsterdam:20260224T211500
DTSTAMP:20260422T121049
CREATED:20260221T141254Z
LAST-MODIFIED:20260225T111045Z
UID:1161-1771964100-1771967700@bcselecta.nl
SUMMARY:Senioren Training
DESCRIPTION:Open voor senioren (en jeugdleden)\, toegankelijk voor ieder niveau.
URL:https://bcselecta.nl/evenement/senioren-training/
CATEGORIES:Training
END:VEVENT
BEGIN:VEVENT
DTSTART;TZID=Europe/Amsterdam:20260226T201500
DTEND;TZID=Europe/Amsterdam:20260226T211500
DTSTAMP:20260422T121049
CREATED:20260226T081846Z
LAST-MODIFIED:20260226T081846Z
UID:1348-1772136900-1772140500@bcselecta.nl
SUMMARY:Senioren Training
DESCRIPTION:Open voor senioren (en jeugdleden)\, toegankelijk voor ieder niveau.
URL:https://bcselecta.nl/evenement/senioren-training-10/
CATEGORIES:Training
END:VEVENT
END:VCALENDAR