BEGIN:VCALENDAR
VERSION:2.0
PRODID:-//wp-events-plugin.com//7.2.3.1//EN
TZID:Europe/Amsterdam
X-WR-TIMEZONE:Europe/Amsterdam
BEGIN:VEVENT
UID:38@bcselecta.nl
DTSTART:20250107T190000Z
DTEND:20250107T200000Z
DTSTAMP:20250107T154043Z
URL:https://bcselecta.nl/events/training-jeugd-2025-01-07/
SUMMARY:Training - Jeugd
DESCRIPTION:
CATEGORIES:Training jeugd
END:VEVENT
BEGIN:VEVENT
UID:77@bcselecta.nl
DTSTART:20250107T190000Z
DTEND:20250107T223000Z
DTSTAMP:20250107T153944Z
URL:https://bcselecta.nl/events/zaal-open-2025-01-07/
SUMMARY:Zaal open
DESCRIPTION:
CATEGORIES:Zaal open
END:VEVENT
BEGIN:VEVENT
UID:57@bcselecta.nl
DTSTART:20250107T200000Z
DTEND:20250107T210000Z
DTSTAMP:20250107T154112Z
URL:https://bcselecta.nl/events/training-senioren-competitie-recreanten-20
 25-01-07/
SUMMARY:Training - Senioren (competitie + recreanten)
DESCRIPTION:
CATEGORIES:training competitie en recreanten
END:VEVENT
BEGIN:VEVENT
UID:88@bcselecta.nl
DTSTART:20250110T200000Z
DTEND:20250110T223000Z
DTSTAMP:20250107T154141Z
URL:https://bcselecta.nl/events/zaal-open-2-2025-01-10/
SUMMARY:Zaal open
DESCRIPTION:
CATEGORIES:Zaal open
END:VEVENT
BEGIN:VEVENT
UID:39@bcselecta.nl
DTSTART:20250114T190000Z
DTEND:20250114T200000Z
DTSTAMP:20250107T154043Z
URL:https://bcselecta.nl/events/training-jeugd-2025-01-14/
SUMMARY:Training - Jeugd
DESCRIPTION:
CATEGORIES:Training jeugd
END:VEVENT
BEGIN:VEVENT
UID:78@bcselecta.nl
DTSTART:20250114T190000Z
DTEND:20250114T223000Z
DTSTAMP:20250107T153944Z
URL:https://bcselecta.nl/events/zaal-open-2025-01-14/
SUMMARY:Zaal open
DESCRIPTION:
CATEGORIES:Zaal open
END:VEVENT
BEGIN:VEVENT
UID:58@bcselecta.nl
DTSTART:20250114T200000Z
DTEND:20250114T210000Z
DTSTAMP:20250107T154112Z
URL:https://bcselecta.nl/events/training-senioren-competitie-recreanten-20
 25-01-14/
SUMMARY:Training - Senioren (competitie + recreanten)
DESCRIPTION:
CATEGORIES:training competitie en recreanten
END:VEVENT
BEGIN:VEVENT
UID:89@bcselecta.nl
DTSTART:20250117T200000Z
DTEND:20250117T223000Z
DTSTAMP:20250107T154141Z
URL:https://bcselecta.nl/events/zaal-open-2-2025-01-17/
SUMMARY:Zaal open
DESCRIPTION:
CATEGORIES:Zaal open
END:VEVENT
BEGIN:VEVENT
UID:75@bcselecta.nl
DTSTART:20250117T200000Z
DTEND:20250117T234500Z
DTSTAMP:20250107T153729Z
URL:https://bcselecta.nl/events/nieuwjaarsfeest-pubquiz-en-een-alcoholvrij
 -bierproeverij/
SUMMARY:Nieuwjaarsfeest - pubquiz en een (alcoholvrij) bierproeverij
DESCRIPTION:We nodigen jullie van harte uit om samen het Nieuwe Jaar feeste
 lijk in te luiden op vrijdag 17 januari in de kantine van Oranje Wit\, va
 naf 20.00 uur. Het belooft een gezellige avond te worden met een pubquiz
  en een (alcoholvrij) bierproeverij inclusief bijpassende hapjes!\n S
 chrijf je nu in via deze link en geef aan aan welke onderdelen je wilt d
 eelnemen.\n·  Ieder lid mag maximaal twee externen meenemen\, die zichz
 elf ook via het formulier moeten inschrijven.\n·  De inschrijving sluit
  op vrijdag 3 januari. \nBadmintonfan? Kom eerder!\nDe zaal is al beschik
 baar vanaf 19.15 uur\, dus als je zin hebt om nog even te badmintonnen\, k
 an dat!\nPubquiz team aanmelden?\nJe kunt op de avond zelf je team voor d
 e pubquiz aanmelden (max. 5 personen per team).\nWij kijken ernaar uit o
 m samen met jullie het jaar goed te beginnen!
CATEGORIES:Feest
END:VEVENT
BEGIN:VEVENT
UID:79@bcselecta.nl
DTSTART:20250121T190000Z
DTEND:20250121T223000Z
DTSTAMP:20250107T153944Z
URL:https://bcselecta.nl/events/zaal-open-2025-01-21/
SUMMARY:Zaal open
DESCRIPTION:
CATEGORIES:Zaal open
END:VEVENT
BEGIN:VEVENT
UID:40@bcselecta.nl
DTSTART:20250121T190000Z
DTEND:20250121T200000Z
DTSTAMP:20250107T154043Z
URL:https://bcselecta.nl/events/training-jeugd-2025-01-21/
SUMMARY:Training - Jeugd
DESCRIPTION:
CATEGORIES:Training jeugd
END:VEVENT
BEGIN:VEVENT
UID:59@bcselecta.nl
DTSTART:20250121T200000Z
DTEND:20250121T210000Z
DTSTAMP:20250107T154112Z
URL:https://bcselecta.nl/events/training-senioren-competitie-recreanten-20
 25-01-21/
SUMMARY:Training - Senioren (competitie + recreanten)
DESCRIPTION:
CATEGORIES:training competitie en recreanten
END:VEVENT
BEGIN:VEVENT
UID:90@bcselecta.nl
DTSTART:20250124T200000Z
DTEND:20250124T223000Z
DTSTAMP:20250107T154141Z
URL:https://bcselecta.nl/events/zaal-open-2-2025-01-24/
SUMMARY:Zaal open
DESCRIPTION:
CATEGORIES:Zaal open
END:VEVENT
BEGIN:VEVENT
UID:80@bcselecta.nl
DTSTART:20250128T190000Z
DTEND:20250128T223000Z
DTSTAMP:20250107T153944Z
URL:https://bcselecta.nl/events/zaal-open-2025-01-28/
SUMMARY:Zaal open
DESCRIPTION:
CATEGORIES:Zaal open
END:VEVENT
BEGIN:VEVENT
UID:98@bcselecta.nl
DTSTART:20250128T190000Z
DTEND:20250128T201500Z
DTSTAMP:20250122T150236Z
URL:https://bcselecta.nl/events/clinic-voor-ouders-van-jeugdleden/
SUMMARY:Clinic voor ouders van jeugdleden
DESCRIPTION:
CATEGORIES:Toernooi
END:VEVENT
BEGIN:VEVENT
UID:41@bcselecta.nl
DTSTART:20250128T190000Z
DTEND:20250128T200000Z
DTSTAMP:20250107T154043Z
URL:https://bcselecta.nl/events/training-jeugd-2025-01-28/
SUMMARY:Training - Jeugd
DESCRIPTION:
CATEGORIES:Training jeugd
END:VEVENT
BEGIN:VEVENT
UID:60@bcselecta.nl
DTSTART:20250128T200000Z
DTEND:20250128T210000Z
DTSTAMP:20250107T154112Z
URL:https://bcselecta.nl/events/training-senioren-competitie-recreanten-20
 25-01-28/
SUMMARY:Training - Senioren (competitie + recreanten)
DESCRIPTION:
CATEGORIES:training competitie en recreanten
END:VEVENT
BEGIN:VEVENT
UID:91@bcselecta.nl
DTSTART:20250131T200000Z
DTEND:20250131T223000Z
DTSTAMP:20250107T154141Z
URL:https://bcselecta.nl/events/zaal-open-2-2025-01-31/
SUMMARY:Zaal open
DESCRIPTION:
CATEGORIES:Zaal open
END:VEVENT
BEGIN:VEVENT
UID:42@bcselecta.nl
DTSTART:20250204T190000Z
DTEND:20250204T200000Z
DTSTAMP:20250107T154043Z
URL:https://bcselecta.nl/events/training-jeugd-2025-02-04/
SUMMARY:Training - Jeugd
DESCRIPTION:
CATEGORIES:Training jeugd
END:VEVENT
BEGIN:VEVENT
UID:81@bcselecta.nl
DTSTART:20250204T190000Z
DTEND:20250204T223000Z
DTSTAMP:20250107T153944Z
URL:https://bcselecta.nl/events/zaal-open-2025-02-04/
SUMMARY:Zaal open
DESCRIPTION:
CATEGORIES:Zaal open
END:VEVENT
BEGIN:VEVENT
UID:61@bcselecta.nl
DTSTART:20250204T200000Z
DTEND:20250204T210000Z
DTSTAMP:20250107T154112Z
URL:https://bcselecta.nl/events/training-senioren-competitie-recreanten-20
 25-02-04/
SUMMARY:Training - Senioren (competitie + recreanten)
DESCRIPTION:
CATEGORIES:training competitie en recreanten
END:VEVENT
BEGIN:VEVENT
UID:92@bcselecta.nl
DTSTART:20250207T200000Z
DTEND:20250207T223000Z
DTSTAMP:20250107T154141Z
URL:https://bcselecta.nl/events/zaal-open-2-2025-02-07/
SUMMARY:Zaal open
DESCRIPTION:
CATEGORIES:Zaal open
END:VEVENT
BEGIN:VEVENT
UID:43@bcselecta.nl
DTSTART:20250211T190000Z
DTEND:20250211T200000Z
DTSTAMP:20250107T154043Z
URL:https://bcselecta.nl/events/training-jeugd-2025-02-11/
SUMMARY:Training - Jeugd
DESCRIPTION:
CATEGORIES:Training jeugd
END:VEVENT
BEGIN:VEVENT
UID:82@bcselecta.nl
DTSTART:20250211T190000Z
DTEND:20250211T223000Z
DTSTAMP:20250107T153944Z
URL:https://bcselecta.nl/events/zaal-open-2025-02-11/
SUMMARY:Zaal open
DESCRIPTION:
CATEGORIES:Zaal open
END:VEVENT
BEGIN:VEVENT
UID:62@bcselecta.nl
DTSTART:20250211T200000Z
DTEND:20250211T210000Z
DTSTAMP:20250107T154112Z
URL:https://bcselecta.nl/events/training-senioren-competitie-recreanten-20
 25-02-11/
SUMMARY:Training - Senioren (competitie + recreanten)
DESCRIPTION:
CATEGORIES:training competitie en recreanten
END:VEVENT
BEGIN:VEVENT
UID:93@bcselecta.nl
DTSTART:20250214T200000Z
DTEND:20250214T223000Z
DTSTAMP:20250107T154141Z
URL:https://bcselecta.nl/events/zaal-open-2-2025-02-14/
SUMMARY:Zaal open
DESCRIPTION:
CATEGORIES:Zaal open
END:VEVENT
BEGIN:VEVENT
UID:83@bcselecta.nl
DTSTART:20250218T190000Z
DTEND:20250218T223000Z
DTSTAMP:20250107T153944Z
URL:https://bcselecta.nl/events/zaal-open-2025-02-18/
SUMMARY:Zaal open
DESCRIPTION:
CATEGORIES:Zaal open
END:VEVENT
BEGIN:VEVENT
UID:44@bcselecta.nl
DTSTART:20250218T190000Z
DTEND:20250218T200000Z
DTSTAMP:20250107T154043Z
URL:https://bcselecta.nl/events/training-jeugd-2025-02-18/
SUMMARY:Training - Jeugd
DESCRIPTION:
CATEGORIES:Training jeugd
END:VEVENT
BEGIN:VEVENT
UID:63@bcselecta.nl
DTSTART:20250218T200000Z
DTEND:20250218T210000Z
DTSTAMP:20250107T154112Z
URL:https://bcselecta.nl/events/training-senioren-competitie-recreanten-20
 25-02-18/
SUMMARY:Training - Senioren (competitie + recreanten)
DESCRIPTION:
CATEGORIES:training competitie en recreanten
END:VEVENT
BEGIN:VEVENT
UID:94@bcselecta.nl
DTSTART:20250221T200000Z
DTEND:20250221T223000Z
DTSTAMP:20250107T154141Z
URL:https://bcselecta.nl/events/zaal-open-2-2025-02-21/
SUMMARY:Zaal open
DESCRIPTION:
CATEGORIES:Zaal open
END:VEVENT
BEGIN:VEVENT
UID:84@bcselecta.nl
DTSTART:20250225T190000Z
DTEND:20250225T223000Z
DTSTAMP:20250107T153944Z
URL:https://bcselecta.nl/events/zaal-open-2025-02-25/
SUMMARY:Zaal open
DESCRIPTION:
CATEGORIES:Zaal open
END:VEVENT
BEGIN:VEVENT
UID:45@bcselecta.nl
DTSTART:20250225T190000Z
DTEND:20250225T200000Z
DTSTAMP:20250107T142944Z
URL:https://bcselecta.nl/events/training-jeugd-2025-02-25/
SUMMARY:Geen training - Jeugd
DESCRIPTION:
END:VEVENT
BEGIN:VEVENT
UID:64@bcselecta.nl
DTSTART:20250225T200000Z
DTEND:20250225T210000Z
DTSTAMP:20250107T143012Z
URL:https://bcselecta.nl/events/training-senioren-competitie-recreanten-20
 25-02-25/
SUMMARY:Geen training - Senioren (competitie + recreanten)
DESCRIPTION:
END:VEVENT
BEGIN:VEVENT
UID:95@bcselecta.nl
DTSTART:20250228T200000Z
DTEND:20250228T223000Z
DTSTAMP:20250107T154141Z
URL:https://bcselecta.nl/events/zaal-open-2-2025-02-28/
SUMMARY:Zaal open
DESCRIPTION:
CATEGORIES:Zaal open
END:VEVENT
BEGIN:VEVENT
UID:85@bcselecta.nl
DTSTART:20250304T190000Z
DTEND:20250304T223000Z
DTSTAMP:20250107T153944Z
URL:https://bcselecta.nl/events/zaal-open-2025-03-04/
SUMMARY:Zaal open
DESCRIPTION:
CATEGORIES:Zaal open
END:VEVENT
BEGIN:VEVENT
UID:46@bcselecta.nl
DTSTART:20250304T190000Z
DTEND:20250304T200000Z
DTSTAMP:20250107T154043Z
URL:https://bcselecta.nl/events/training-jeugd-2025-03-04/
SUMMARY:Training - Jeugd
DESCRIPTION:
CATEGORIES:Training jeugd
END:VEVENT
BEGIN:VEVENT
UID:65@bcselecta.nl
DTSTART:20250304T200000Z
DTEND:20250304T210000Z
DTSTAMP:20250107T154112Z
URL:https://bcselecta.nl/events/training-senioren-competitie-recreanten-20
 25-03-04/
SUMMARY:Training - Senioren (competitie + recreanten)
DESCRIPTION:
CATEGORIES:training competitie en recreanten
END:VEVENT
BEGIN:VEVENT
UID:96@bcselecta.nl
DTSTART:20250307T200000Z
DTEND:20250307T223000Z
DTSTAMP:20250107T154141Z
URL:https://bcselecta.nl/events/zaal-open-2-2025-03-07/
SUMMARY:Zaal open
DESCRIPTION:
CATEGORIES:Zaal open
END:VEVENT
BEGIN:VEVENT
UID:47@bcselecta.nl
DTSTART:20250311T190000Z
DTEND:20250311T200000Z
DTSTAMP:20250107T154043Z
URL:https://bcselecta.nl/events/training-jeugd-2025-03-11/
SUMMARY:Training - Jeugd
DESCRIPTION:
CATEGORIES:Training jeugd
END:VEVENT
BEGIN:VEVENT
UID:86@bcselecta.nl
DTSTART:20250311T190000Z
DTEND:20250311T223000Z
DTSTAMP:20250107T153944Z
URL:https://bcselecta.nl/events/zaal-open-2025-03-11/
SUMMARY:Zaal open
DESCRIPTION:
CATEGORIES:Zaal open
END:VEVENT
BEGIN:VEVENT
UID:66@bcselecta.nl
DTSTART:20250311T200000Z
DTEND:20250311T210000Z
DTSTAMP:20250107T154112Z
URL:https://bcselecta.nl/events/training-senioren-competitie-recreanten-20
 25-03-11/
SUMMARY:Training - Senioren (competitie + recreanten)
DESCRIPTION:
CATEGORIES:training competitie en recreanten
END:VEVENT
BEGIN:VEVENT
UID:97@bcselecta.nl
DTSTART:20250314T200000Z
DTEND:20250314T223000Z
DTSTAMP:20250107T154141Z
URL:https://bcselecta.nl/events/zaal-open-2-2025-03-14/
SUMMARY:Zaal open
DESCRIPTION:
CATEGORIES:Zaal open
END:VEVENT
BEGIN:VEVENT
UID:48@bcselecta.nl
DTSTART:20250318T190000Z
DTEND:20250318T200000Z
DTSTAMP:20250107T154043Z
URL:https://bcselecta.nl/events/training-jeugd-2025-03-18/
SUMMARY:Training - Jeugd
DESCRIPTION:
CATEGORIES:Training jeugd
END:VEVENT
BEGIN:VEVENT
UID:67@bcselecta.nl
DTSTART:20250318T200000Z
DTEND:20250318T210000Z
DTSTAMP:20250107T154112Z
URL:https://bcselecta.nl/events/training-senioren-competitie-recreanten-20
 25-03-18/
SUMMARY:Training - Senioren (competitie + recreanten)
DESCRIPTION:
CATEGORIES:training competitie en recreanten
END:VEVENT
BEGIN:VEVENT
UID:49@bcselecta.nl
DTSTART:20250325T190000Z
DTEND:20250325T200000Z
DTSTAMP:20250107T154043Z
URL:https://bcselecta.nl/events/training-jeugd-2025-03-25/
SUMMARY:Training - Jeugd
DESCRIPTION:
CATEGORIES:Training jeugd
END:VEVENT
BEGIN:VEVENT
UID:68@bcselecta.nl
DTSTART:20250325T200000Z
DTEND:20250325T210000Z
DTSTAMP:20250107T154112Z
URL:https://bcselecta.nl/events/training-senioren-competitie-recreanten-20
 25-03-25/
SUMMARY:Training - Senioren (competitie + recreanten)
DESCRIPTION:
CATEGORIES:training competitie en recreanten
END:VEVENT
BEGIN:VEVENT
UID:50@bcselecta.nl
DTSTART:20250401T190000Z
DTEND:20250401T200000Z
DTSTAMP:20250107T154043Z
URL:https://bcselecta.nl/events/training-jeugd-2025-04-01/
SUMMARY:Training - Jeugd
DESCRIPTION:
CATEGORIES:Training jeugd
END:VEVENT
BEGIN:VEVENT
UID:69@bcselecta.nl
DTSTART:20250401T200000Z
DTEND:20250401T210000Z
DTSTAMP:20250107T154112Z
URL:https://bcselecta.nl/events/training-senioren-competitie-recreanten-20
 25-04-01/
SUMMARY:Training - Senioren (competitie + recreanten)
DESCRIPTION:
CATEGORIES:training competitie en recreanten
END:VEVENT
BEGIN:VEVENT
UID:51@bcselecta.nl
DTSTART:20250408T190000Z
DTEND:20250408T200000Z
DTSTAMP:20250107T154043Z
URL:https://bcselecta.nl/events/training-jeugd-2025-04-08/
SUMMARY:Training - Jeugd
DESCRIPTION:
CATEGORIES:Training jeugd
END:VEVENT
BEGIN:VEVENT
UID:70@bcselecta.nl
DTSTART:20250408T200000Z
DTEND:20250408T210000Z
DTSTAMP:20250107T154112Z
URL:https://bcselecta.nl/events/training-senioren-competitie-recreanten-20
 25-04-08/
SUMMARY:Training - Senioren (competitie + recreanten)
DESCRIPTION:
CATEGORIES:training competitie en recreanten
END:VEVENT
END:VCALENDAR