BEGIN:VCALENDAR
VERSION:2.0
PRODID:-//wp-events-plugin.com//7.2.3.1//EN
TZID:Europe/Amsterdam
X-WR-TIMEZONE:Europe/Amsterdam
BEGIN:VEVENT
UID:86@bcselecta.nl
DTSTART:20250311T190000Z
DTEND:20250311T223000Z
DTSTAMP:20250107T153944Z
URL:https://bcselecta.nl/events/zaal-open-2025-03-11/
SUMMARY:Zaal open
DESCRIPTION:
CATEGORIES:Zaal open
END:VEVENT
END:VCALENDAR