BEGIN:VCALENDAR
VERSION:2.0
PRODID:-//wp-events-plugin.com//7.2.3.1//EN
TZID:Europe/Amsterdam
X-WR-TIMEZONE:Europe/Amsterdam
BEGIN:VEVENT
UID:73@bcselecta.nl
DTSTART:20250429T200000Z
DTEND:20250429T210000Z
DTSTAMP:20250107T154112Z
URL:https://bcselecta.nl/events/training-senioren-competitie-recreanten-20
 25-04-29/
SUMMARY:Training - Senioren (competitie + recreanten)
DESCRIPTION:
CATEGORIES:training competitie en recreanten
END:VEVENT
END:VCALENDAR